BEGIN:VCALENDAR
VERSION:2.0
PRODID:-//Greater Chicago Soap Box Derby - ECPv6.15.20//NONSGML v1.0//EN
CALSCALE:GREGORIAN
METHOD:PUBLISH
X-WR-CALNAME:Greater Chicago Soap Box Derby
X-ORIGINAL-URL:https://greaterchicago.soapboxderby.org
X-WR-CALDESC:Events for Greater Chicago Soap Box Derby
REFRESH-INTERVAL;VALUE=DURATION:PT1H
X-Robots-Tag:noindex
X-PUBLISHED-TTL:PT1H
BEGIN:VTIMEZONE
TZID:UTC
BEGIN:STANDARD
TZOFFSETFROM:+0000
TZOFFSETTO:+0000
TZNAME:UTC
DTSTART:20250101T000000
END:STANDARD
END:VTIMEZONE
BEGIN:VEVENT
DTSTART;VALUE=DATE:20260606
DTEND;VALUE=DATE:20260607
DTSTAMP:20260421T123923
CREATED:20260216T163146Z
LAST-MODIFIED:20260216T163146Z
UID:3211-1780704000-1780790399@greaterchicago.soapboxderby.org
SUMMARY:Greater Chicago Soap Box Derby All American Local race\, June 6\, 2026
DESCRIPTION:Greater Chicago Soap Box Derby All American Local race\, June 6\, 2026 \nBoys and girls between the ages of 7 and 20 will be competing in gravity powered soap box derby cars. Chicago will feature the 3 core divisions\, Stock\, Superstock\, and Masters. Winner in each division will qualify to compete in Akron\, Ohio at the World Championship race. \nNew to soap box derby racing? Let us know you are coming and your child can use 1 of our cars to race for the day or the weekend. There is no charge to use the car. Not ready to start racing right away\, stop by and take a test run to see what soap box derby racing is like. Contact us if you would like to borrow a car for the day and compete with other kids for a trophy. \nGroupon coupons are only for new first time Chicago Local racers that do not have a rally ID assigned to their name. \nLocation of Track: We are racing on Frontenac Road and Diehl Road in Naperville\, IL. Or use Google Maps and search for “Chicago soap box derby rally race“ \nTo register contact Stan Iglehart Race Director at 630-841-8832 \nRequest for refunds must be submitted before the end of the race weekend or the 1st Tuesday of the following month. Request for refunds can be sent via email.. \nView live race day results from your device here \nRace day schedule \n6:30 Volunteers and car handlers arrive for track set up\n8:00 Greater Chicago Soap Box Derby racers arrive\nfor inspection\, weigh in\, practice runs\, driver and group photo\n8:45 Drivers meeting and opening announcements\n9:00 GCSBD racers begin racing\n2:00 Top four race off 1st– 4th places all divisions\n3:00 Conclusion of Chicago local race\n4:00 Awards ceremony Location to be announced
URL:https://greaterchicago.soapboxderby.org/event/greater-chicago-soap-box-derby-all-american-local-race-june-6-2026/
LOCATION:Naperville track\, 1695 Frontenac Road\, Naperville\, IL\, 60563\, United States
CATEGORIES:Local Race,Other
ORGANIZER;CN="Greater Chicago Soap Box Derby":MAILTO:Greaterchicago@soapboxderby.org
END:VEVENT
END:VCALENDAR